{
 "version": 1.0,
 "tileBundlesPath": "./tile",
 "spatialReference": {
  "wkid": 102100,
  "latestWkid": 3857
 },
 "storageInfo": {
  "packetSize": 128,
  "storageFormat": "esriMapCacheStorageModeCompactV2"
 },
 "tileImageInfo": {
  "format": "MIXED",
  "compressionQuality": 85,
  "bandCount": 1,
  "lercError": 0
 },
 "tileInfo": {
  "spatialReference": {
   "wkid": 102100,
   "latestWkid": 3857
  },
  "origin": {
   "x": -2.0037508342787E7,
   "y": 2.0037508342787E7
  },
  "rows": 256,
  "cols": 256,
  "dpi": 96,
  "lods": [
   {
    "level": 0,
    "resolution": 156543.033928,
    "scale": 5.91657527591555E8
   },
   {
    "level": 1,
    "resolution": 78271.5169639999,
    "scale": 2.95828763795777E8
   },
   {
    "level": 2,
    "resolution": 39135.7584820001,
    "scale": 1.47914381897889E8
   },
   {
    "level": 3,
    "resolution": 19567.8792409999,
    "scale": 7.3957190948944E7
   },
   {
    "level": 4,
    "resolution": 9783.93962049996,
    "scale": 3.6978595474472E7
   },
   {
    "level": 5,
    "resolution": 4891.96981024998,
    "scale": 1.8489297737236E7
   },
   {
    "level": 6,
    "resolution": 2445.98490512499,
    "scale": 9244648.868618
   },
   {
    "level": 7,
    "resolution": 1222.99245256249,
    "scale": 4622324.434309
   },
   {
    "level": 8,
    "resolution": 611.49622628138,
    "scale": 2311162.217155
   },
   {
    "level": 9,
    "resolution": 305.748113140558,
    "scale": 1155581.108577
   },
   {
    "level": 10,
    "resolution": 152.874056570411,
    "scale": 577790.554289
   },
   {
    "level": 11,
    "resolution": 76.4370282850732,
    "scale": 288895.277144
   },
   {
    "level": 12,
    "resolution": 38.2185141425366,
    "scale": 144447.638572
   },
   {
    "level": 13,
    "resolution": 19.1092570712683,
    "scale": 72223.819286
   },
   {
    "level": 14,
    "resolution": 9.55462853563415,
    "scale": 36111.909643
   },
   {
    "level": 15,
    "resolution": 4.77731426794937,
    "scale": 18055.954822
   },
   {
    "level": 16,
    "resolution": 2.38865713397468,
    "scale": 9027.977411
   },
   {
    "level": 17,
    "resolution": 1.19432856685505,
    "scale": 4513.988705
   },
   {
    "level": 18,
    "resolution": 0.597164283559817,
    "scale": 2256.994353
   },
   {
    "level": 19,
    "resolution": 0.298582141647617,
    "scale": 1128.497176
   },
   {
    "level": 20,
    "resolution": 0.14929107082380833,
    "scale": 564.248588
   },
   {
    "level": 21,
    "resolution": 0.07464553541190416,
    "scale": 282.124294
   },
   {
    "level": 22,
    "resolution": 0.03732276770595208,
    "scale": 141.062147
   },
   {
    "level": 23,
    "resolution": 0.01866138385297604,
    "scale": 70.5310735
   }
  ],
  "format": "MIXED",
  "compressionQuality": 85,
  "bandCount": 1,
  "lercError": 0,
  "storageFormat": "esriMapCacheStorageModeCompactV2",
  "packetSize": 128
 },
 "name": "Road Name Labels",
 "serviceDescription": "",
 "units": "esriMeters",
 "minLOD": 13,
 "maxLOD": 21,
 "resampling": true,
 "layers": [
  {
   "id": 1,
   "name": "Level 20 (1:564)",
   "parentLayerId": -1,
   "defaultVisibility": true,
   "subLayerIds": null,
   "minScale": 564.248588,
   "maxScale": 0,
   "type": "Feature Layer",
   "geometryType": "esriGeometryPolyline",
   "supportsDynamicLegends": true,
   "legend": [
    {
     "label": "",
     "imageData": "iVBORw0KGgoAAAANSUhEUgAAABQAAAAUCAYAAACNiR0NAAAACXBIWXMAAA7EAAAOxAGVKw4bAAAAKklEQVQ4je3MIQEAAAzDsIP613w83MFFQLgyFmr4Ii30KBxhoUfhCAtPexArAFF5acCuAAAAAElFTkSuQmCC",
     "contentType": "image/png",
     "groupId": "0",
     "height": 20,
     "width": 20,
     "layerId": 1,
     "layerName": "Level 20 (1:564)"
    }
   ],
   "layerId": 1,
   "layerName": "Level 20 (1:564)",
   "serviceItemId": "2ab97a3573944e4986410c5392bf528c"
  },
  {
   "id": 2,
   "name": "Level 19 (1:1,128)",
   "parentLayerId": -1,
   "defaultVisibility": true,
   "subLayerIds": null,
   "minScale": 1128.497176,
   "maxScale": 564.248588,
   "type": "Feature Layer",
   "geometryType": "esriGeometryPolyline",
   "supportsDynamicLegends": true,
   "legend": [
    {
     "label": "Local",
     "imageData": "iVBORw0KGgoAAAANSUhEUgAAABQAAAAUCAYAAACNiR0NAAAACXBIWXMAAA7EAAAOxAGVKw4bAAAAKklEQVQ4je3MIQEAAAzDsIP613w83MFFQLgyFmr4Ii30KBxhoUfhCAtPexArAFF5acCuAAAAAElFTkSuQmCC",
     "contentType": "image/png",
     "groupId": "0",
     "height": 20,
     "width": 20,
     "values": [
      "Local"
     ],
     "layerId": 2,
     "layerName": "Level 19 (1:1,128)"
    },
    {
     "label": "Other",
     "imageData": "iVBORw0KGgoAAAANSUhEUgAAABQAAAAUCAYAAACNiR0NAAAACXBIWXMAAA7EAAAOxAGVKw4bAAAAKklEQVQ4je3MIQEAAAzDsIP613w83MFFQLgyFmr4Ii30KBxhoUfhCAtPexArAFF5acCuAAAAAElFTkSuQmCC",
     "contentType": "image/png",
     "groupId": "0",
     "height": 20,
     "width": 20,
     "values": [
      "Principal Arterial - Other Freeways or Expressways",
      "Major Collector",
      "Minor Arterial",
      "Minor Collector",
      "Principal Arterial - Other",
      "Interstate"
     ],
     "layerId": 2,
     "layerName": "Level 19 (1:1,128)"
    }
   ],
   "layerId": 2,
   "layerName": "Level 19 (1:1,128)",
   "serviceItemId": "2ab97a3573944e4986410c5392bf528c"
  },
  {
   "id": 3,
   "name": "Level 18 (1:2,257)",
   "parentLayerId": -1,
   "defaultVisibility": true,
   "subLayerIds": null,
   "minScale": 2256.994353,
   "maxScale": 1128.497176,
   "type": "Feature Layer",
   "geometryType": "esriGeometryPolyline",
   "supportsDynamicLegends": true,
   "legend": [
    {
     "label": "Local",
     "imageData": "iVBORw0KGgoAAAANSUhEUgAAABQAAAAUCAYAAACNiR0NAAAACXBIWXMAAA7EAAAOxAGVKw4bAAAAKklEQVQ4je3MIQEAAAzDsIP613w83MFFQLgyFmr4Ii30KBxhoUfhCAtPexArAFF5acCuAAAAAElFTkSuQmCC",
     "contentType": "image/png",
     "groupId": "0",
     "height": 20,
     "width": 20,
     "values": [
      "Local"
     ],
     "layerId": 3,
     "layerName": "Level 18 (1:2,257)"
    },
    {
     "label": "Other",
     "imageData": "iVBORw0KGgoAAAANSUhEUgAAABQAAAAUCAYAAACNiR0NAAAACXBIWXMAAA7EAAAOxAGVKw4bAAAAKklEQVQ4je3MIQEAAAzDsIP613w83MFFQLgyFmr4Ii30KBxhoUfhCAtPexArAFF5acCuAAAAAElFTkSuQmCC",
     "contentType": "image/png",
     "groupId": "0",
     "height": 20,
     "width": 20,
     "values": [
      "Principal Arterial - Other Freeways or Expressways",
      "Major Collector",
      "Minor Arterial",
      "Minor Collector",
      "Principal Arterial - Other",
      "Interstate"
     ],
     "layerId": 3,
     "layerName": "Level 18 (1:2,257)"
    }
   ],
   "layerId": 3,
   "layerName": "Level 18 (1:2,257)",
   "serviceItemId": "2ab97a3573944e4986410c5392bf528c"
  },
  {
   "id": 4,
   "name": "Level 17 (1:4,514)",
   "parentLayerId": -1,
   "defaultVisibility": true,
   "subLayerIds": null,
   "minScale": 4513.988705,
   "maxScale": 2256.994353,
   "type": "Feature Layer",
   "geometryType": "esriGeometryPolyline",
   "supportsDynamicLegends": true,
   "legend": [
    {
     "label": "Local",
     "imageData": "iVBORw0KGgoAAAANSUhEUgAAABQAAAAUCAYAAACNiR0NAAAACXBIWXMAAA7EAAAOxAGVKw4bAAAAKklEQVQ4je3MIQEAAAzDsIP613w83MFFQLgyFmr4Ii30KBxhoUfhCAtPexArAFF5acCuAAAAAElFTkSuQmCC",
     "contentType": "image/png",
     "groupId": "0",
     "height": 20,
     "width": 20,
     "values": [
      "Local"
     ],
     "layerId": 4,
     "layerName": "Level 17 (1:4,514)"
    },
    {
     "label": "Other",
     "imageData": "iVBORw0KGgoAAAANSUhEUgAAABQAAAAUCAYAAACNiR0NAAAACXBIWXMAAA7EAAAOxAGVKw4bAAAAKklEQVQ4je3MIQEAAAzDsIP613w83MFFQLgyFmr4Ii30KBxhoUfhCAtPexArAFF5acCuAAAAAElFTkSuQmCC",
     "contentType": "image/png",
     "groupId": "0",
     "height": 20,
     "width": 20,
     "values": [
      "Principal Arterial - Other Freeways or Expressways",
      "Major Collector",
      "Minor Arterial",
      "Minor Collector",
      "Principal Arterial - Other",
      "Interstate"
     ],
     "layerId": 4,
     "layerName": "Level 17 (1:4,514)"
    }
   ],
   "layerId": 4,
   "layerName": "Level 17 (1:4,514)",
   "serviceItemId": "2ab97a3573944e4986410c5392bf528c"
  },
  {
   "id": 5,
   "name": "Level 16 (1:9,028)",
   "parentLayerId": -1,
   "defaultVisibility": true,
   "subLayerIds": null,
   "minScale": 9027.977411,
   "maxScale": 4513.988705,
   "type": "Feature Layer",
   "geometryType": "esriGeometryPolyline",
   "supportsDynamicLegends": true,
   "legend": [
    {
     "label": "Local",
     "imageData": "iVBORw0KGgoAAAANSUhEUgAAABQAAAAUCAYAAACNiR0NAAAACXBIWXMAAA7EAAAOxAGVKw4bAAAAKklEQVQ4je3MIQEAAAzDsIP613w83MFFQLgyFmr4Ii30KBxhoUfhCAtPexArAFF5acCuAAAAAElFTkSuQmCC",
     "contentType": "image/png",
     "groupId": "0",
     "height": 20,
     "width": 20,
     "values": [
      "Local"
     ],
     "layerId": 5,
     "layerName": "Level 16 (1:9,028)"
    },
    {
     "label": "Other",
     "imageData": "iVBORw0KGgoAAAANSUhEUgAAABoAAAAUCAYAAACTQC2+AAAACXBIWXMAAA7EAAAOxAGVKw4bAAAAMElEQVRIie3NoREAMBCEwBf0X3NqOEQU6xm4T2hkoctRIw2fbhpp+HTTSMOnm0ZnPWDLAFFNcLxOAAAAAElFTkSuQmCC",
     "contentType": "image/png",
     "groupId": "0",
     "height": 20,
     "width": 26,
     "values": [
      "Principal Arterial - Other Freeways or Expressways",
      "Major Collector",
      "Minor Arterial",
      "Minor Collector",
      "Principal Arterial - Other",
      "Interstate"
     ],
     "layerId": 5,
     "layerName": "Level 16 (1:9,028)"
    }
   ],
   "layerId": 5,
   "layerName": "Level 16 (1:9,028)",
   "serviceItemId": "2ab97a3573944e4986410c5392bf528c"
  },
  {
   "id": 6,
   "name": "Level 15 (1:18,056)",
   "parentLayerId": -1,
   "defaultVisibility": true,
   "subLayerIds": null,
   "minScale": 18055.954822,
   "maxScale": 9027.977411,
   "type": "Feature Layer",
   "geometryType": "esriGeometryPolyline",
   "supportsDynamicLegends": true,
   "legend": [
    {
     "label": "Local",
     "imageData": "iVBORw0KGgoAAAANSUhEUgAAABQAAAAUCAYAAACNiR0NAAAACXBIWXMAAA7EAAAOxAGVKw4bAAAAKklEQVQ4je3MIQEAAAzDsIP613w83MFFQLgyFmr4Ii30KBxhoUfhCAtPexArAFF5acCuAAAAAElFTkSuQmCC",
     "contentType": "image/png",
     "groupId": "0",
     "height": 20,
     "width": 20,
     "values": [
      "Local"
     ],
     "layerId": 6,
     "layerName": "Level 15 (1:18,056)"
    },
    {
     "label": "Other",
     "imageData": "iVBORw0KGgoAAAANSUhEUgAAABgAAAAUCAYAAACXtf2DAAAACXBIWXMAAA7EAAAOxAGVKw4bAAAAJklEQVQ4je3NIQEAAADCMAT9MxPhCvcVWHNWA2KADJABMkAG6B4MResAUd6uQawAAAAASUVORK5CYII=",
     "contentType": "image/png",
     "groupId": "0",
     "height": 20,
     "width": 24,
     "values": [
      "Principal Arterial - Other Freeways or Expressways",
      "Major Collector",
      "Minor Arterial",
      "Minor Collector",
      "Principal Arterial - Other",
      "Interstate"
     ],
     "layerId": 6,
     "layerName": "Level 15 (1:18,056)"
    }
   ],
   "layerId": 6,
   "layerName": "Level 15 (1:18,056)",
   "serviceItemId": "2ab97a3573944e4986410c5392bf528c"
  },
  {
   "id": 9,
   "name": "MassDOT Major Routes Level 13-14",
   "parentLayerId": -1,
   "defaultVisibility": true,
   "subLayerIds": null,
   "minScale": 72223.819286,
   "maxScale": 18055.954822,
   "type": "Feature Layer",
   "geometryType": "esriGeometryPolyline",
   "supportsDynamicLegends": true,
   "legend": [
    {
     "label": "",
     "imageData": "iVBORw0KGgoAAAANSUhEUgAAABQAAAAUCAYAAACNiR0NAAAACXBIWXMAAA7EAAAOxAGVKw4bAAAAKklEQVQ4je3MIQEAAAzDsIP613w83MFFQLgyFmr4Ii30KBxhoUfhCAtPexArAFF5acCuAAAAAElFTkSuQmCC",
     "contentType": "image/png",
     "groupId": "0",
     "height": 20,
     "width": 20,
     "layerId": 9,
     "layerName": "MassDOT Major Routes Level 13-14"
    }
   ],
   "layerId": 9,
   "layerName": "MassDOT Major Routes Level 13-14",
   "serviceItemId": "2ab97a3573944e4986410c5392bf528c"
  },
  {
   "id": 7,
   "name": "Level 14 (1:36,112)",
   "parentLayerId": -1,
   "defaultVisibility": true,
   "subLayerIds": null,
   "minScale": 36111.909643,
   "maxScale": 18055.954822,
   "type": "Feature Layer",
   "geometryType": "esriGeometryPolyline",
   "supportsDynamicLegends": true,
   "legend": [
    {
     "label": "Local",
     "imageData": "iVBORw0KGgoAAAANSUhEUgAAABQAAAAUCAYAAACNiR0NAAAACXBIWXMAAA7EAAAOxAGVKw4bAAAAKklEQVQ4je3MIQEAAAzDsIP613w83MFFQLgyFmr4Ii30KBxhoUfhCAtPexArAFF5acCuAAAAAElFTkSuQmCC",
     "contentType": "image/png",
     "groupId": "0",
     "height": 20,
     "width": 20,
     "values": [
      "Local"
     ],
     "layerId": 7,
     "layerName": "Level 14 (1:36,112)"
    },
    {
     "label": "Other",
     "imageData": "iVBORw0KGgoAAAANSUhEUgAAABgAAAAUCAYAAACXtf2DAAAACXBIWXMAAA7EAAAOxAGVKw4bAAAAJklEQVQ4je3NIQEAAADCMAT9MxPhCvcVWHNWA2KADJABMkAG6B4MResAUd6uQawAAAAASUVORK5CYII=",
     "contentType": "image/png",
     "groupId": "0",
     "height": 20,
     "width": 24,
     "values": [
      "Principal Arterial - Other Freeways or Expressways",
      "Major Collector",
      "Minor Arterial",
      "Minor Collector",
      "Principal Arterial - Other",
      "Interstate"
     ],
     "layerId": 7,
     "layerName": "Level 14 (1:36,112)"
    }
   ],
   "layerId": 7,
   "layerName": "Level 14 (1:36,112)",
   "serviceItemId": "2ab97a3573944e4986410c5392bf528c"
  },
  {
   "id": 8,
   "name": "Level 13 (1:72,224)",
   "parentLayerId": -1,
   "defaultVisibility": true,
   "subLayerIds": null,
   "minScale": 72223.819286,
   "maxScale": 36111.909643,
   "type": "Feature Layer",
   "geometryType": "esriGeometryPolyline",
   "supportsDynamicLegends": true,
   "legend": [
    {
     "label": "Local",
     "imageData": "iVBORw0KGgoAAAANSUhEUgAAABQAAAAUCAYAAACNiR0NAAAACXBIWXMAAA7EAAAOxAGVKw4bAAAAKklEQVQ4je3MIQEAAAzDsIP613w83MFFQLgyFmr4Ii30KBxhoUfhCAtPexArAFF5acCuAAAAAElFTkSuQmCC",
     "contentType": "image/png",
     "groupId": "0",
     "height": 20,
     "width": 20,
     "values": [
      "Local"
     ],
     "layerId": 8,
     "layerName": "Level 13 (1:72,224)"
    },
    {
     "label": "Other",
     "imageData": "iVBORw0KGgoAAAANSUhEUgAAABgAAAAUCAYAAACXtf2DAAAACXBIWXMAAA7EAAAOxAGVKw4bAAAAJklEQVQ4je3NIQEAAADCMAT9MxPhCvcVWHNWA2KADJABMkAG6B4MResAUd6uQawAAAAASUVORK5CYII=",
     "contentType": "image/png",
     "groupId": "0",
     "height": 20,
     "width": 24,
     "values": [
      "Principal Arterial - Other Freeways or Expressways",
      "Major Collector",
      "Minor Arterial",
      "Minor Collector",
      "Principal Arterial - Other",
      "Interstate"
     ],
     "layerId": 8,
     "layerName": "Level 13 (1:72,224)"
    }
   ],
   "layerId": 8,
   "layerName": "Level 13 (1:72,224)",
   "serviceItemId": "2ab97a3573944e4986410c5392bf528c"
  }
 ],
 "initialExtent": {
  "xmin": -7931211.961967387,
  "ymin": 5217467.5739362445,
  "xmax": -7913252.278384259,
  "ymax": 5228672.021683412,
  "spatialReference": {
   "wkid": 102100,
   "latestWkid": 3857
  }
 },
 "fullExtent": {
  "xmin": -7931211.961967387,
  "ymin": 5217467.5739362445,
  "xmax": -7913252.278384259,
  "ymax": 5228672.021683412,
  "spatialReference": {
   "wkid": 102100,
   "latestWkid": 3857
  }
 },
 "minScale": 72223.819286,
 "maxScale": 0,
 "exportTilesAllowed": false,
 "maxExportTilesCount": 0,
 "currentVersion": 11.4,
 "mapName": "Road Name Labels",
 "singleFusedMapCache": true,
 "type": "MapServer",
 "supportedExtensions": "",
 "capabilities": "TilesOnly,Tilemap",
 "serviceItemId": "2ab97a3573944e4986410c5392bf528c"
}
